BEGIN:VCALENDAR
VERSION:2.0
PRODID:-//jEvents 2.0 for Joomla//EN
CALSCALE:GREGORIAN
METHOD:PUBLISH
BEGIN:VEVENT
UID:941952ccdb766396cda62856b8d7e82a
CATEGORIES:Notice
CREATED:19700101T000000
SUMMARY:January 2025 Council Meeting Notice 
DESCRIPTION:The Village of Lennon will hold its regular monthly meeting on Monday, Janu
 ary 13, 2025 at 6:30 p.m.  The meeting will be held at the Village of Lenno
 n Hall located at 11904 Lennon Rd.   \nPublic is encouraged to attend.  \nA
 genda follows\n Village of LennonCouncil Meeting\nJanuary 13, 2025\n Agenda
  \nOpen at 6:30 P.M.\nCall to Order\nPledge of Allegiance\nRoll Call\nAppro
 val Minutes of Regular Meeting – December 9, 2024\nApproval of the Agenda\n
 Treasurer’s Report\nPayment of Bills and Wages \nPublic Participation 1: \n
  Reports\n\n - Police Commission Report\n - Building Inspector\n - DPW Repo
 rt/Building &amp; Grounds\n - WWS\n - Planning Commission/DDA\n - Blight Co
 mmittee\n - Correspondence \nOld business:\n\n - Code Enforcement Officer –
  Position Description – Carryover        \nNew Business: \nPublic Participa
 tion 2:  \n            \nAdjournment:\n \n \n
X-ALT-DESC;FMTTYPE=text/html:<p>The Village of Lennon will hold its regular monthly meeting on Monday, J
 anuary 13, 2025 at 6:30 p.m.  The meeting will be held at the Village of Le
 nnon Hall located at 11904 Lennon Rd.   </p><p>Public is encouraged to atte
 nd.  </p><p>Agenda follows</p><h2> </h2><h2>Village of Lennon</h2><p><stron
 g>Council Meeting</strong></p><p><strong>January 13, 2025</strong></p><h1> 
 </h1><h1>Agenda</h1><p> </p><p>Open at 6:30 P.M.</p><p>Call to Order</p><p>
 Pledge of Allegiance</p><p>Roll Call</p><p>Approval Minutes of Regular Meet
 ing – December 9, 2024</p><p>Approval of the Agenda</p><p>Treasurer’s Repor
 t</p><p>Payment of Bills and Wages </p><p><strong>Public Participation 1: <
 /strong></p><p><strong> </strong><strong>Reports</strong></p><ol><li>Police
  Commission Report</li><li>Building Inspector</li><li>DPW Report/Building &
 amp; Grounds</li><li>WWS</li><li>Planning Commission/DDA</li><li>Blight Com
 mittee</li><li>Correspondence</li></ol><p> </p><p><strong>Old business:</st
 rong></p><ol><li>Code Enforcement Officer – Position Description – Carryove
 r</li></ol><p>        </p><p><strong>New Business: </strong></p><p><strong>
 Public Participation 2:  </strong></p><p><strong>            </strong></p><
 p><strong>Adjournment:</strong></p><p> </p><p> </p>
DTSTAMP:20260421T192214
DTSTART;VALUE=DATE:20250113
DTEND;VALUE=DATE:20250115
SEQUENCE:0
RRULE:FREQ=DAILY;UNTIL=20250114T000000Z;INTERVAL=1
TRANSP:OPAQUE
END:VEVENT
END:VCALENDAR