BEGIN:VCALENDAR
VERSION:2.0
PRODID:-//jEvents 2.0 for Joomla//EN
CALSCALE:GREGORIAN
METHOD:PUBLISH
BEGIN:VEVENT
UID:fd6d8f4a2bd5ab386fa2133f3e181af1
CATEGORIES:Notice
CREATED:19700101T000000
SUMMARY:Council Meeting
DESCRIPTION:The Village of Lennon will hold its regular council meeting on December 9, 
 2024 at 6:30 p.m.   at the Village of Lennon hall located at 11904 Lennon R
 d., Lennon.   \nPublic is welcome to attend.        Agenda Follows\nVillage
  of LennonCouncil Meeting\nNovember 11, 2024\n Agenda \nOpen at 6:30 P.M.\n
 Call to Order\nPledge of Allegiance\nRoll Call\nApproval Minutes of Regular
  Meeting – November 11,, 2024\nApproval of the Agenda\nTreasurer’s Report\n
 Payment of Bills and Wages \n \nPublic Participation 1: \n \n \n \n\n -  Re
 ports\n\n - Police Commission Report\n - Building Inspector\n - DPW Report/
 Building &amp; Grounds\n - WWS\n - Planning Commission/DDA\n - Blight Commi
 ttee\n - Correspondence \nOld business:\n\n - Code Enforcement Officer – Po
 sition Description - Carryover           \nNew Business: \n1.  Election of 
 President Pro Tem\n2.  Resolution to set meeting dates for 2024\nPublic Par
 ticipation 2:  \n              \nAdjournment:\n \n \n \n
X-ALT-DESC;FMTTYPE=text/html:<p>The Village of Lennon will hold its regular council meeting on December 
 9, 2024 at 6:30 p.m.   at the Village of Lennon hall located at 11904 Lenno
 n Rd., Lennon.   </p><p>Public is welcome to attend.        Agenda Follows<
 /p><h2>Village of Lennon</h2><p><strong>Council Meeting</strong></p><p><str
 ong>November 11, 2024</strong></p><h1> </h1><h1>Agenda</h1><p> </p><p>Open 
 at 6:30 P.M.</p><p>Call to Order</p><p>Pledge of Allegiance</p><p>Roll Call
 </p><p>Approval Minutes of Regular Meeting – November 11,, 2024</p><p>Appro
 val of the Agenda</p><p>Treasurer’s Report</p><p>Payment of Bills and Wages
  </p><p> </p><p><strong>Public Participation 1: </strong></p><p><strong> </
 strong></p><p> </p><p><strong> </strong></p><ol><li> </li></ol><p><strong>R
 eports</strong></p><ol start="2"><li>Police Commission Report</li><li>Build
 ing Inspector</li><li>DPW Report/Building &amp; Grounds</li><li>WWS</li><li
 >Planning Commission/DDA</li><li>Blight Committee</li><li>Correspondence</l
 i></ol><p> </p><p><strong>Old business:</strong></p><ol><li>Code Enforcemen
 t Officer – Position Description - Carryover</li></ol><p>           </p><p>
 <strong>New Business: </strong></p><p>1.  Election of President Pro Tem</p>
 <p>2.  Resolution to set meeting dates for 2024</p><p><strong>Public Partic
 ipation 2:  </strong></p><p><strong>              </strong></p><p><strong>A
 djournment:</strong></p><p> </p><p> </p><p> </p>
DTSTAMP:20260421T202836
DTSTART;VALUE=DATE:20241206
DTEND;VALUE=DATE:20241211
SEQUENCE:0
RRULE:FREQ=DAILY;UNTIL=20241210T000000Z;INTERVAL=1
TRANSP:OPAQUE
END:VEVENT
END:VCALENDAR