BEGIN:VCALENDAR
VERSION:2.0
PRODID:-//jEvents 2.0 for Joomla//EN
CALSCALE:GREGORIAN
METHOD:PUBLISH
BEGIN:VEVENT
UID:fe0e2649a3c376b0f2fa5699daa19a94
CATEGORIES:Notice
CREATED:19700101T000000
SUMMARY:Regular Council Meeting - November 2024
DESCRIPTION:<p>The Village of Lennon will hold the monthly Council Meeting on Monday, N
 ovember 11, 2024 at 6:30 p.m. at the Village of Lennon hall located at 1190
 4 Lennon Rd.  Agenda follows </p><h2>Village of Lennon</h2><p><strong>Counc
 il Meeting</strong></p><p><strong>November 11, 2024</strong></p><h1> </h1><
 h1>Agenda</h1><p> </p><p>Open at 6:30 P.M.</p><p>Call to Order</p><p>Pledge
  of Allegiance</p><p>Roll Call</p><p>Approval Minutes of Regular Meeting – 
 October 14, 2024</p><p>Approval of the Agenda</p><p>Treasurer’s Report</p><
 p>Payment of Bills and Wages </p><p> </p><p><strong> </strong></p><p><stron
 g>Public Participation 1: </strong></p><p><strong> </strong></p><p><strong>
 MDOT Category B Grant</strong></p><p><strong> </strong></p><ol><li>Spicer –
  Main St Project – Carryover</li></ol><p> </p><p><strong>Reports</strong></
 p><ol start="2"><li>Police Commission Report</li><li>Building Inspector</li
 ><li>DPW Report/Building &amp; Grounds</li><li>WWS</li><li>Planning Commiss
 ion/DDA</li><li>Reappoint Planning Commission members – L. Farley Ray and M
 . Natzel</li><li>Blight Committee</li><li>Correspondence</li></ol><p> </p><
 p><strong>Old business:</strong></p><ol><li>Code Enforcement Officer – Posi
 tion Description - Carryover</li></ol><p>           </p><p><strong>New Busi
 ness: </strong></p><ol><li>Organization meeting - Monday, November 18, 2024
 </li></ol><p> </p><p> </p><p><strong>Public Participation 2:  </strong></p>
 <p><strong>              </strong></p><p><strong>Adjournment:</strong></p><
 p> </p><p> </p>
DTSTAMP:20260421T234403
DTSTART;VALUE=DATE:20241107
DTEND;VALUE=DATE:20241113
SEQUENCE:0
RRULE:FREQ=DAILY;UNTIL=20241112T000000Z;INTERVAL=1
TRANSP:OPAQUE
END:VEVENT
END:VCALENDAR