BEGIN:VCALENDAR
VERSION:2.0
PRODID:-//jEvents 2.0 for Joomla//EN
CALSCALE:GREGORIAN
METHOD:PUBLISH
BEGIN:VEVENT
UID:83bba3198f82da42645e46f565c805d7
CATEGORIES:Notice
CREATED:19700101T000000
SUMMARY:Special Meeting - Land Bank Property
DESCRIPTION:SPECIAL MEETING NOTICE\nThe Village of Lennon will hold an informational on
 ly special meeting to discuss the Land Bank property.  The meeting will be 
 held at the Village of Lennon Hall at 8:30 a.m., November 11.  \nPublic is 
 encouraged to attend.  \n
X-ALT-DESC;FMTTYPE=text/html:<p>SPECIAL MEETING NOTICE</p><p>The Village of Lennon will hold an informat
 ional only special meeting to discuss the Land Bank property.  The meeting 
 will be held at the Village of Lennon Hall at 8:30 a.m., November 11.  </p>
 <p>Public is encouraged to attend.  </p>
DTSTAMP:20260421T234020
DTSTART;VALUE=DATE:20241107
DTEND;VALUE=DATE:20241113
SEQUENCE:0
RRULE:FREQ=DAILY;UNTIL=20241112T000000Z;INTERVAL=1
TRANSP:OPAQUE
END:VEVENT
END:VCALENDAR