BEGIN:VCALENDAR
VERSION:2.0
PRODID:-//jEvents 2.0 for Joomla//EN
CALSCALE:GREGORIAN
METHOD:PUBLISH
BEGIN:VEVENT
UID:120713513fa40562ac2999ffc8a35917
CATEGORIES:Notice
CREATED:19700101T000000
SUMMARY:Public Hearing - Burning  Ordinance 
DESCRIPTION:<p>Notice is hereby given the Village of Lennon will hold a Public Hearing 
 on October 14, 2024, starting at 6:30 p.m. at the Village of Lennon Hall lo
 cated at 11904 E. Lennon Rd., Lennon, Michigan. </p><p>The purpose of the H
 earing is as follows:</p><p>To review and take public comments concerning p
 roposed Ordinance 2024-0513-01 an Ordinance FOR THE REGULATION OF BURNING W
 ITHIN THE VILLAGE OF LENNON. </p><p>Written comments may be submitted, and 
 a complete copy of Ordinance 2024-0513-01 is available at the Village of Le
 nnon Hall 11904 E. Lennon Rd., Lennon, Michigan 48449 during regular busine
 ss hours</p>
DTSTAMP:20260422T012734
DTSTART;VALUE=DATE:20240924
DTEND;VALUE=DATE:20241016
SEQUENCE:0
RRULE:FREQ=DAILY;UNTIL=20241015T000000Z;INTERVAL=1
TRANSP:OPAQUE
END:VEVENT
END:VCALENDAR