BEGIN:VCALENDAR
VERSION:2.0
PRODID:-//jEvents 2.0 for Joomla//EN
CALSCALE:GREGORIAN
METHOD:PUBLISH
BEGIN:VEVENT
UID:f3dab66d36da5b2dbdc09c4147cc5afd
CATEGORIES:Notice
CREATED:19700101T000000
SUMMARY:Regular Council Meeting - Sep 9
DESCRIPTION:The Village of Lennon will hold its monthly regular council meeting on Mond
 ay, Sept 9, 2024 at 6:30 p.m. at the Lennon Village Hall located at 11904 L
 ennon Rd.  \nPublic is encouraged to attend.   \nAgenda follows:  \n Villag
 e of LennonCouncil Meeting\nSeptember 9, 2024\n Agenda \nOpen at 6:30 P.M.\
 nCall to Order\nPledge of Allegiance\nRoll Call\nApproval Minutes of Regula
 r Meeting – August 12, 2024\nApproval of the Agenda\nTreasurer’s Report\nPa
 yment of Bills and Wages \nPublic Participation 1: \nReports\n\n - Police C
 ommission Report\n - Trick or Treating\n - Building Inspector\n - DPW Repor
 t/Building &amp; Grounds\n - Repairs to Police Dept Building\n - WWS\n - Pl
 anning Commission/DDA\n - Blight Committee\n - CorrespondenceOld business:\
 n\n - Vacant Lot - Carryover – On Hold\n - Spicer – Main St Project – Carry
 over\n - Code Enforcement Officer – Position Description           \nNew Bu
 siness: \n\n - Window Factory – Land Split Resolution \nPublic Participatio
 n 2:  \n              \nAdjournment:\n \n \n
X-ALT-DESC;FMTTYPE=text/html:<p>The Village of Lennon will hold its monthly regular council meeting on M
 onday, Sept 9, 2024 at 6:30 p.m. at the Lennon Village Hall located at 1190
 4 Lennon Rd.  </p><p>Public is encouraged to attend.   </p><p>Agenda follow
 s:  </p><h2> </h2><h2>Village of Lennon</h2><p><strong>Council Meeting</str
 ong></p><p><strong>September 9, 2024</strong></p><h1> </h1><h1>Agenda</h1><
 p> </p><p>Open at 6:30 P.M.</p><p>Call to Order</p><p>Pledge of Allegiance<
 /p><p>Roll Call</p><p>Approval Minutes of Regular Meeting – August 12, 2024
 </p><p>Approval of the Agenda</p><p>Treasurer’s Report</p><p>Payment of Bil
 ls and Wages </p><p><strong>Public Participation 1: </strong></p><p><strong
 >Reports</strong></p><ol><li>Police Commission Report</li><li>Trick or Trea
 ting</li><li>Building Inspector</li><li>DPW Report/Building &amp; Grounds</
 li><li>Repairs to Police Dept Building</li><li>WWS</li><li>Planning Commiss
 ion/DDA</li><li>Blight Committee</li><li>Correspondence</li></ol><p><strong
 >Old business:</strong></p><ol><li>Vacant Lot - Carryover – On Hold</li><li
 >Spicer – Main St Project – Carryover</li><li>Code Enforcement Officer – Po
 sition Description</li></ol><p>           </p><p><strong>New Business: </st
 rong></p><ol><li>Window Factory – Land Split Resolution</li></ol><p> </p><p
 ><strong>Public Participation 2:  </strong></p><p><strong>              </s
 trong></p><p><strong>Adjournment:</strong></p><p> </p><p> </p>
DTSTAMP:20260421T235608
DTSTART;VALUE=DATE:20240905
DTEND;VALUE=DATE:20240911
SEQUENCE:0
RRULE:FREQ=DAILY;UNTIL=20240910T000000Z;INTERVAL=1
TRANSP:OPAQUE
END:VEVENT
END:VCALENDAR