BEGIN:VCALENDAR
VERSION:2.0
PRODID:-//jEvents 2.0 for Joomla//EN
CALSCALE:GREGORIAN
METHOD:PUBLISH
BEGIN:VEVENT
UID:7f28c62972775f89531ed21875c89410
CATEGORIES:Notice
CREATED:19700101T000000
SUMMARY:Police Commission Meeting 
DESCRIPTION:<p>The Village of Lennon Police Commission will hold a meeting on Thursday,
  September 5, 2024 at 6:30 p.m. at the Village of Lennon Hall located at 11
 904 Lennon Rd.  </p>
DTSTAMP:20260422T012835
DTSTART;VALUE=DATE:20240904
DTEND;VALUE=DATE:20240907
SEQUENCE:0
RRULE:FREQ=DAILY;UNTIL=20240906T000000Z;INTERVAL=1
TRANSP:OPAQUE
END:VEVENT
END:VCALENDAR