BEGIN:VCALENDAR
VERSION:2.0
PRODID:-//jEvents 2.0 for Joomla//EN
CALSCALE:GREGORIAN
METHOD:PUBLISH
BEGIN:VEVENT
UID:82ccb3b57f6c95024c1bd007dba27949
CATEGORIES:Notice
CREATED:20240702T134856
SUMMARY:Regular Council Meeting - July 8, 2024
DESCRIPTION:The Village of Lennon will hold its regular monthly meeting on July 8, 2024
  at 6:30 p.m. at the Village of Lennon Hall located at 11904 Lennon Rd., Le
 nnon, MI.  Public is encouraged to attend.  \nAgenda follows:  \nVillage of
  LennonCouncil Meeting\nJuly 8, 2024\n Agenda \nOpen at 6:30 P.M.\nCall to 
 Order\nPledge of Allegiance\nRoll Call\nApproval of Minutes of Public Heari
 ng on 2024-2025 Budget – June 10, 2024\nApproval Minutes of Regular Meeting
  – June 10, 2024\nApproval of the Agenda\nTreasurer’s Report\nPayment of Bi
 lls and Wages \n \n \n \nPublic Participation 1: \n \n \nReports\n\n - Poli
 ce Commission Report\n - Building Inspector\n - DPW Report/Building &amp; G
 rounds\n - WWS\n - Planning Commission/DDA\n - Blight Committee\n - Corresp
 ondence \nOld business:\n\n - Vacant Lot - Carryover – On Hold \n          
  \nNew Business: \n \nPublic Participation 2:  \n              \nAdjournmen
 t:\n \n \n
X-ALT-DESC;FMTTYPE=text/html:<p>The Village of Lennon will hold its regular monthly meeting on July 8, 2
 024 at 6:30 p.m. at the Village of Lennon Hall located at 11904 Lennon Rd.,
  Lennon, MI.  Public is encouraged to attend.  </p><p>Agenda follows:  </p>
 <h2>Village of Lennon</h2><p><strong>Council Meeting</strong></p><p><strong
 >July 8, 2024</strong></p><h1> </h1><h1>Agenda</h1><p> </p><p>Open at 6:30 
 P.M.</p><p>Call to Order</p><p>Pledge of Allegiance</p><p>Roll Call</p><p>A
 pproval of Minutes of Public Hearing on 2024-2025 Budget – June 10, 2024</p
 ><p>Approval Minutes of Regular Meeting – June 10, 2024</p><p>Approval of t
 he Agenda</p><p>Treasurer’s Report</p><p>Payment of Bills and Wages </p><p>
  </p><p> </p><p><strong> </strong></p><p><strong>Public Participation 1: </
 strong></p><p> </p><p> </p><p><strong>Reports</strong></p><ol><li>Police Co
 mmission Report</li><li>Building Inspector</li><li>DPW Report/Building &amp
 ; Grounds</li><li>WWS</li><li>Planning Commission/DDA</li><li>Blight Commit
 tee</li><li>Correspondence</li></ol><p> </p><p><strong>Old business:</stron
 g></p><ol><li>Vacant Lot - Carryover – On Hold</li></ol><p><strong> </stron
 g></p><p>           </p><p><strong>New Business: </strong></p><p> </p><p><s
 trong>Public Participation 2:  </strong></p><p><strong>              </stro
 ng></p><p><strong>Adjournment:</strong></p><p> </p><p> </p>
DTSTAMP:20260421T231630
DTSTART:20240702T080000
DTEND:20240702T170000
SEQUENCE:0
TRANSP:OPAQUE
END:VEVENT
END:VCALENDAR