BEGIN:VCALENDAR
VERSION:2.0
PRODID:-//jEvents 2.0 for Joomla//EN
CALSCALE:GREGORIAN
METHOD:PUBLISH
BEGIN:VEVENT
UID:ed3679d19e5daec60326df1c1571b5e8
CATEGORIES:Notice
CREATED:19700101T000000
SUMMARY:Council Meeting June 10, 2024
DESCRIPTION:<p>The Village of Lennon will hold its monthly council meeting on Monday, J
 une 10, 2024 following the Public Hearing on the 2024-2025 Proposed Budget 
 at 6:00 p.m.  The meeting will start at approximately 6:30 p.m. .   </p><p>
 Public is encouraged to attend.   </p><p> </p><p>Agenda follows:  </p><h2> 
 </h2><h2>Village of Lennon</h2><p><strong>Council Meeting</strong></p><p><s
 trong>June 10, 2024</strong></p><h1> </h1><h1>Agenda</h1><p> </p><p>Open at
  6:30 P.M.</p><p>Call to Order</p><p>Pledge of Allegiance</p><p>Roll Call</
 p><p>Approval Minutes of Regular Meeting – May 13, 2024</p><p>Approval of t
 he Agenda</p><p>Treasurer’s Report</p><p>Payment of Bills and Wages </p><p>
 <strong>Public Participation 1: </strong></p><p> </p><p><strong>Reports</st
 rong></p><ol><li>Police Commission Report</li><li>Building Inspector</li><l
 i>DPW Report/Building &amp; Grounds</li><li>WWS</li><li>Planning Commission
 /DDA</li><li>Blight Committee</li><li>Correspondence</li></ol><p> </p><p><s
 trong>Old business:</strong></p><ol><li>Vacant Lot - Carryover – On Hold</l
 i><li>Spicer – Main St Project</li></ol><p><strong> </strong></p><p>       
     </p><p><strong>New Business: </strong></p><ol><li>Resolution adopting 2
 024 mileage L-4029 ( Included in Public Hearing Packet)</li><li>Resolution 
 adopting the 2024-2025 budget ( Included in Public Hearing Packet)</li></ol
 ><p> </p><p><strong>Public Participation 2:  </strong></p><p><strong>      
         </strong></p><p><strong>Adjournment:</strong></p><p> </p>
DTSTAMP:20260421T220811
DTSTART;VALUE=DATE:20240610
DTEND;VALUE=DATE:20240612
SEQUENCE:0
RRULE:FREQ=DAILY;UNTIL=20240611T000000Z;INTERVAL=1
TRANSP:OPAQUE
END:VEVENT
END:VCALENDAR