BEGIN:VCALENDAR
VERSION:2.0
PRODID:-//jEvents 2.0 for Joomla//EN
CALSCALE:GREGORIAN
METHOD:PUBLISH
BEGIN:VEVENT
UID:53e0d815ea55eda0342bfde72919fa99
CATEGORIES:Notice
CREATED:20240605T134102
SUMMARY:Public Hearing Budget 
DESCRIPTION:<p>The Village of Lennon will hold a public hearing for the 2024-2025 budge
 t on Monday, June 10, 2024 at 6:00 p.m. The public hearing will be held at 
 the Village of Lennon hall located at 11904 Lennon Rd.   Regular Council to
  follow at 6:30 p.m.   </p><p>Public is invited to attend.   </p><p>Agenda 
 follows </p><h2>Village of Lennon</h2><p><strong>Public Hearing – Proposed 
 2024-2025 Budget</strong></p><p>June 10, 2024</p><p> </p><p>Agenda: </p><p>
 Open at 6:00 P.M.</p><p>Call to order</p><p>Pledge of Allegiance</p><p>Roll
 -Call</p><p>Approval of regular agenda</p><p>New business:</p><ol><li>2024-
 2025 Millage Proposal</li><li>Budget Presentation</li></ol><p>Public Partic
 ipation:</p><p>                      </p><p>Adjournment</p><p> </p>
DTSTAMP:20260421T232452
DTSTART;VALUE=DATE:20240610
DTEND;VALUE=DATE:20240610
SEQUENCE:0
TRANSP:OPAQUE
END:VEVENT
END:VCALENDAR