BEGIN:VCALENDAR
VERSION:2.0
PRODID:-//jEvents 2.0 for Joomla//EN
CALSCALE:GREGORIAN
METHOD:PUBLISH
BEGIN:VEVENT
UID:8507badd3e0e33a332aa55009236b0e3
CATEGORIES:Notice
CREATED:19700101T000000
SUMMARY:Planning Commission/DDA Meetings
DESCRIPTION:<p>The Village of Lennon Planning Commission and Downtown Development Autho
 rity will hold monthly meeting on Wednesday, May 1, 2024 at 6:00 p.m.   The
  meeting will be held at the Village of Lennon Hall located at 11904 Lennon
  Rd., Lennon.   </p><p>Public is invited to attend.   </p><p>Agendas Follow
 :  </p><p><strong>Village of Lennon</strong></p><p><strong>Planning Commiss
 ion</strong></p><p><strong>Meeting Agenda</strong></p><p><strong>May, 1st 2
 024</strong></p><p><strong>6:00 PM</strong></p><p><strong>AGENDA</strong></
 p><ol><li>Call to order</li><li>Pledge of Allegiance</li><li>Roll Call</li>
 <li>Approval of the Agenda</li><li>Approval of the Minutes from April 3rd M
 eeting</li><li>Correspondence:</li><li>Public Comments:</li><li>Old Busines
 s<ol><li>Discussion on revising Building Ordinance to include Shipping Cont
 ainer</li><li>Burning ordinance revision</li></ol></li><li>New Business</li
 ><li> </li></ol><p>XI  Public Comments :</p><p>XII Adjournment: Time; _____
 ______</p><ul><li> </li></ul><p> </p><p>2024 Upcoming meeting dates:  June 
 5th, July 3rd, August 7th, September 4th, October 2nd, November 6th and Dec
 ember 4th</p><p><strong>Village of Lennon</strong></p><p><strong>Downtown D
 evelopment Authority</strong></p><p><strong>Meeting Agenda</strong></p><p><
 strong>May 1st, 2024</strong></p><p><strong>6:00 PM</strong></p><p> </p><p>
 <strong>AGENDA</strong></p><ol><li>Call to order</li><li>Pledge of Allegian
 ce</li><li>Roll Call</li><li>Approval of the Agenda</li><li>Approval of the
  Minutes from April 3rd Meeting</li><li>Approval of the Treasures report</l
 i><li>Correspondence:</li><li>Public Comments:</li><li>Old Business</li><li
 >New Business</li></ol><p>XI  Public Comments:</p><p>XII Adjournment: Time;
 </p><p>2024 Upcoming meeting dates:  June 5th, July 3rd, August 7th, Septem
 ber 4th, October 2nd, November 6th and December 4th</p><p> </p><p> </p>
DTSTAMP:20260421T203513
DTSTART;VALUE=DATE:20240430
DTEND;VALUE=DATE:20240503
SEQUENCE:0
RRULE:FREQ=DAILY;UNTIL=20240502T000000Z;INTERVAL=1
TRANSP:OPAQUE
END:VEVENT
END:VCALENDAR