BEGIN:VCALENDAR
VERSION:2.0
PRODID:-//jEvents 2.0 for Joomla//EN
CALSCALE:GREGORIAN
METHOD:PUBLISH
BEGIN:VEVENT
UID:fb721fb185844e952eb03d1c31dfc2bb
CATEGORIES:Notice
CREATED:20240404T143358
SUMMARY:April Council Meeting
DESCRIPTION:The Village of Lennon will hold its regular scheduled Council meeting on Mo
 nday, April 8, 2024 at 6:30 p.m.   The meeting will be held at the Village 
 of Lennon hall located at 11904 Lennon Rd., Lennon.  \nThe public is invite
 d to attend.     \nAgenda follows.   \n Village of LennonCouncil Meeting\nA
 pril 8, 2024\n Agenda \nOpen at 6:30 P.M.\nCall to Order\nPledge of Allegia
 nce\nRoll Call\nApproval Minutes of Regular Meeting – March 11, 2024\nAppro
 val of the Agenda\nTreasurer’s Report\nPayment of Bills and Wages \nPublic 
 Participation 1: \n \n \nReports\n\n - Police Commission Report\n - Buildin
 g Inspector\n - DPW Report/Building &amp; Grounds\n - WWS\n - Planning Comm
 ission/DDA\n - Blight Committee\n - Correspondence \nOld business:\n\n - Va
 cant Lot - Carryover – On Hold \n           \nNew Business: \n\n -   \nPubl
 ic Participation 2:  \n              \nAdjournment:\n \n \n \n
X-ALT-DESC;FMTTYPE=text/html:<p>The Village of Lennon will hold its regular scheduled Council meeting on
  Monday, April 8, 2024 at 6:30 p.m.   The meeting will be held at the Villa
 ge of Lennon hall located at 11904 Lennon Rd., Lennon.  </p><p>The public i
 s invited to attend.     </p><p>Agenda follows.   </p><h2> </h2><h2>Village
  of Lennon</h2><p><strong>Council Meeting</strong></p><p><strong>April 8, 2
 024</strong></p><h1> </h1><h1>Agenda</h1><p> </p><p>Open at 6:30 P.M.</p><p
 >Call to Order</p><p>Pledge of Allegiance</p><p>Roll Call</p><p>Approval Mi
 nutes of Regular Meeting – March 11, 2024</p><p>Approval of the Agenda</p><
 p>Treasurer’s Report</p><p>Payment of Bills and Wages </p><p><strong>Public
  Participation 1: </strong></p><p> </p><p> </p><p><strong>Reports</strong><
 /p><ol><li>Police Commission Report</li><li>Building Inspector</li><li>DPW 
 Report/Building &amp; Grounds</li><li>WWS</li><li>Planning Commission/DDA</
 li><li>Blight Committee</li><li>Correspondence</li></ol><p> </p><p><strong>
 Old business:</strong></p><ol><li>Vacant Lot - Carryover – On Hold</li></ol
 ><p><strong> </strong></p><p>           </p><p><strong>New Business: </stro
 ng></p><ol><li><strong> </strong></li></ol><p> </p><p><strong>Public Partic
 ipation 2:  </strong></p><p><strong>              </strong></p><p><strong>A
 djournment:</strong></p><p> </p><p> </p><p> </p>
DTSTAMP:20260421T202935
DTSTART:20240404T080000
DTEND:20240404T170000
SEQUENCE:0
TRANSP:OPAQUE
END:VEVENT
END:VCALENDAR