BEGIN:VCALENDAR
VERSION:2.0
PRODID:-//jEvents 2.0 for Joomla//EN
CALSCALE:GREGORIAN
METHOD:PUBLISH
BEGIN:VEVENT
UID:e07e74b73c721e4ea2e844ceb9237bd4
CATEGORIES:Notice
CREATED:19700101T000000
SUMMARY:Planning Commission/DDA Meeting
DESCRIPTION:<p>The Village of Lennon Planning Commission and Downtown Development Autho
 rity will hold its monthly meeting on Wednesday, April 3, 2024 at 6:00 p.m.
    All are invited to attend.    </p><p> </p><p> </p><p><strong>Village of 
 Lennon</strong></p><p><strong>Planning Commission</strong></p><p><strong>Me
 eting Agenda</strong></p><p><strong>April 3rd, 2024</strong></p><p><strong>
 6:00 PM</strong></p><p> </p><p><strong>AGENDA  - Planning Commission</stron
 g></p><ol><li>Call to order</li><li>Pledge of Allegiance</li><li>Roll Call<
 /li><li>Approval of the Agenda</li><li>Approval of the Minutes from March 6
 th Meeting</li><li>Correspondence:</li><li>Public Comments 1:           </l
 i><li>Old Business<ol><li>Discussion on revising Building Ordinance to incl
 ude Shipping Container vs generating a new Ordinance</li></ol></li><li>New 
 Business</li><li>Revised 2024 Meeting Calendar</li></ol><p> </p><p>XI  Publ
 ic Comments 2 :</p><p>XII Adjournment: Time</p><p> </p><p><strong>Village o
 f Lennon</strong></p><p><strong>Downtown Development Authority</strong></p>
 <p><strong>Meeting Agenda</strong></p><p><strong>April 3rd, 2023</strong></
 p><p><strong>6:00 PM</strong></p><p> </p><p><strong>AGENDA - Downtown Devel
 opment Authority</strong></p><p> </p><ol><li>Call to order</li><li>Pledge o
 f Allegiance</li><li>Roll Call</li><li>Approval of the Agenda</li><li>Appro
 val of the Minutes from February 7th Meeting</li><li>Approval of the Treasu
 rers report</li><li>Correspondence:</li><li>Public Comments:</li><li>Old Bu
 siness</li><li>New Business</li></ol><p>XI  Public Comments:</p><p>XII Adjo
 urnment:</p><p> </p>
DTSTAMP:20260421T203506
DTSTART;VALUE=DATE:20240402
DTEND;VALUE=DATE:20240403
SEQUENCE:0
RRULE:FREQ=DAILY;UNTIL=20240404T000000Z;INTERVAL=1
TRANSP:OPAQUE
END:VEVENT
END:VCALENDAR