BEGIN:VCALENDAR
VERSION:2.0
PRODID:-//jEvents 2.0 for Joomla//EN
CALSCALE:GREGORIAN
METHOD:PUBLISH
BEGIN:VEVENT
UID:2817eb536ed309ad25d2f9a2f193129e
CATEGORIES:Notice
CREATED:19700101T000000
SUMMARY:Blight Meeting
DESCRIPTION:NOTICE\nThe Village of Lennon will hold a blight committee meeting on Thurs
 day, March 21, 2024 at the Lennon Village Hall located at 11904 Lennon Rd. 
   All interested parties are invited to attend.   \n
X-ALT-DESC;FMTTYPE=text/html:<p>NOTICE</p><p>The Village of Lennon will hold a blight committee meeting 
 on Thursday, March 21, 2024 at the Lennon Village Hall located at 11904 Len
 non Rd.   All interested parties are invited to attend.   </p>
DTSTAMP:20260421T202856
DTSTART;VALUE=DATE:20240320
DTEND;VALUE=DATE:20240322
SEQUENCE:0
RRULE:FREQ=DAILY;UNTIL=20240321T000000Z;INTERVAL=1
TRANSP:OPAQUE
END:VEVENT
END:VCALENDAR