BEGIN:VCALENDAR
VERSION:2.0
PRODID:-//jEvents 2.0 for Joomla//EN
CALSCALE:GREGORIAN
METHOD:PUBLISH
BEGIN:VEVENT
UID:65acae926fe8c1265773f0490c3beabf
CATEGORIES:Notice
CREATED:19700101T000000
SUMMARY:March 11, 2024 Council Meeting
DESCRIPTION:The Village of Lennon will hold its regular scheduled Council Meeting on Mo
 nday, March 11, 2024 at 6:30 p.m. at the Lennon Village Hall located at 119
 04 Lennon Rd.  Lennon, MI   \nAgenda:\n Village of LennonCouncil Meeting\nM
 arch 11, 2024\n Agenda \nOpen at 6:30 P.M.\nCall to Order\nPledge of Allegi
 ance\nRoll Call\nApproval Minutes of Regular Meeting – February 12, 2024\nA
 pproval of the Agenda\nTreasurer’s Report\nPayment of Bills and Wages \nPub
 lic Participation 1: \nReports\n\n - Police Commission Report\n - Building 
 Inspector\n - DPW Report/Building &amp; Grounds\n - WWS\n - Planning Commis
 sion/DDA\n - Blight Committee\n - Correspondence \nOld business:\n\n - Vaca
 nt Lot - Carryover – On Hold \n       \nNew Business: \n\n -  Site Plan Rev
 iew – B &amp; D Equipment Rental\n -  Shipping Containers/Temporary Structu
 res ( Storage Tents)\n -   \nPublic Participation 2:  \n              \nAdj
 ournment\nCouncil Meeting reports can be found from the Home page;    (1) C
 lick on Documents    (2)  Click on Meetings     (3)  Click on Meeting Packe
 ts    (4)  Select March 11, 2024\n \n  \n
X-ALT-DESC;FMTTYPE=text/html:<p>The Village of Lennon will hold its regular scheduled Council Meeting on
  Monday, March 11, 2024 at 6:30 p.m. at the Lennon Village Hall located at 
 11904 Lennon Rd.  Lennon, MI   </p><p>Agenda:</p><h2> </h2><h2>Village of L
 ennon</h2><p><strong>Council Meeting</strong></p><p><strong>March 11, 2024<
 /strong></p><h1> </h1><h1>Agenda</h1><p> </p><p>Open at 6:30 P.M.</p><p>Cal
 l to Order</p><p>Pledge of Allegiance</p><p>Roll Call</p><p>Approval Minute
 s of Regular Meeting – February 12, 2024</p><p>Approval of the Agenda</p><p
 >Treasurer’s Report</p><p>Payment of Bills and Wages </p><p><strong>Public 
 Participation 1: </strong></p><p><strong>Reports</strong></p><ol><li>Police
  Commission Report</li><li>Building Inspector</li><li>DPW Report/Building &
 amp; Grounds</li><li>WWS</li><li>Planning Commission/DDA</li><li>Blight Com
 mittee</li><li>Correspondence</li></ol><p> </p><p><strong>Old business:</st
 rong></p><ol><li>Vacant Lot - Carryover – On Hold</li></ol><p><strong> </st
 rong></p><p>       </p><p><strong>New Business: </strong></p><ol><li><stron
 g> </strong>Site Plan Review – B &amp; D Equipment Rental</li><li><strong> 
 </strong>Shipping Containers/Temporary Structures ( Storage Tents)</li><li>
 <strong> </strong></li></ol><p> </p><p><strong>Public Participation 2:  </s
 trong></p><p><strong>              </strong></p><p><strong>Adjournment</str
 ong></p><p><strong>Council Meeting reports can be found from the Home page;
     (1) Click on Documents    (2)  Click on Meetings     (3)  Click on Meet
 ing Packets    (4)  Select March 11, 2024</strong></p><p> </p><p>  </p>
DTSTAMP:20260421T190113
DTSTART;VALUE=DATE:20240307
DTEND;VALUE=DATE:20240313
SEQUENCE:0
RRULE:FREQ=DAILY;UNTIL=20240312T000000Z;INTERVAL=1
TRANSP:OPAQUE
END:VEVENT
END:VCALENDAR