BEGIN:VCALENDAR
VERSION:2.0
PRODID:-//jEvents 2.0 for Joomla//EN
CALSCALE:GREGORIAN
METHOD:PUBLISH
BEGIN:VEVENT
UID:9ac710f7c0f9c42e5970c800c0815eba
CATEGORIES:Notice
CREATED:20240208T124437
SUMMARY:Regular Council Meeting
DESCRIPTION:<p>The Village of Lennon will hold its regular monthly council meeting on M
 onday, February 12, 2024 at 6:30 p.m. at the Lennon Village Hall located at
  11904 Lennon Rd., Lennon, MI   48449.</p><p>Attendance is encouraged.   </
 p><p>Agenda Follows</p><h2> </h2><h2>Village of Lennon</h2><p><strong>Counc
 il Meeting</strong></p><p><strong>February 12, 2024</strong></p><h1> </h1><
 h1>Agenda</h1><p> </p><p>Open at 6:30 P.M.</p><p>Call to Order</p><p>Pledge
  of Allegiance</p><p>Roll Call</p><p>Approval Minutes of Regular Meeting – 
 January 8, 2024</p><p>Approval of the Agenda</p><p>Treasurer’s Report</p><p
 >Payment of Bills and Wages </p><p><strong>Public Participation 1: </strong
 ></p><p><strong>Reports</strong></p><ol><li>Police Commission Report</li><l
 i>Building Inspector</li><li>DPW Report/Building &amp; Grounds</li><li>WWS<
 /li><li>Planning Commission/DDA</li><li>Blight Committee</li><li>Correspond
 ence</li></ol><p><strong>Old business:</strong></p><ol><li>Vacant Lot - Car
 ryover – On Hold</li></ol><p><strong> </strong>        </p><p><strong>New B
 usiness: </strong></p><ol><li>SEDP Membership</li><li>MML Loss Control Reco
 mmendations responses</li><li>Revised Fee Schedule</li></ol><p> </p><p> </p
 ><p><strong>Public Participation 2:  </strong></p><p><strong>           </s
 trong></p><p><strong>Adjournment:</strong></p><p> </p><p> </p><p> </p><p> <
 /p><p> </p>
DTSTAMP:20260421T190544
DTSTART;VALUE=DATE:20240208
DTEND;VALUE=DATE:20240209
SEQUENCE:0
TRANSP:OPAQUE
END:VEVENT
END:VCALENDAR