BEGIN:VCALENDAR
VERSION:2.0
PRODID:-//jEvents 2.0 for Joomla//EN
CALSCALE:GREGORIAN
METHOD:PUBLISH
BEGIN:VEVENT
UID:0909ede26f23db5c3b6497107b4f0164
CATEGORIES:Notice
CREATED:19700101T000000
SUMMARY:Regular Council Meeting 
DESCRIPTION:Public Notice - Village of Lennon\nThe Village of Lennon will hold it regul
 ar monthly Council Meeting on Monday, January 8, 2024 at 6:30 p.m.   The me
 eting will be held at the Village of Lennon Hall located at 11904 Lennon Ro
 ad, Lennon.   \nEveryone is welcome to attend.   \nAgenda Follows\nVillage 
 of LennonCouncil Meeting\nJanuary 8, 2024\n Agenda \nOpen at 6:30 P.M.\nCal
 l to Order\nPledge of Allegiance\nRoll Call\nApproval Minutes of Regular Me
 eting – December 11, 2023\nApproval of the Agenda\nTreasurer’s Report\nPaym
 ent of Bills and Wages \n \nPublic Participation 1: \nReports\n\n - Police 
 Commission Report\n - Building Inspector\n - DPW Report/Building &amp; Grou
 nds\n - WWS\n - Planning Commission/DDA\n - Blight Committee\n - Correspond
 ence \nOld business:\n\n - Vacant Lot - Carryover           \nNew Business:
  \n\n - Land Split \nPublic Participation 2:  \n           \nAdjournment:\n
  \n \n \n \n
X-ALT-DESC;FMTTYPE=text/html:<p>Public Notice - Village of Lennon</p><p>The Village of Lennon will hold 
 it regular monthly Council Meeting on Monday, January 8, 2024 at 6:30 p.m. 
   The meeting will be held at the Village of Lennon Hall located at 11904 L
 ennon Road, Lennon.   </p><p>Everyone is welcome to attend.   </p><p>Agenda
  Follows</p><h2>Village of Lennon</h2><p><strong>Council Meeting</strong></
 p><p><strong>January 8, 2024</strong></p><h1> </h1><h1>Agenda</h1><p> </p><
 p>Open at 6:30 P.M.</p><p>Call to Order</p><p>Pledge of Allegiance</p><p>Ro
 ll Call</p><p>Approval Minutes of Regular Meeting – December 11, 2023</p><p
 >Approval of the Agenda</p><p>Treasurer’s Report</p><p>Payment of Bills and
  Wages </p><p> </p><p><strong>Public Participation 1: </strong></p><p><stro
 ng>Reports</strong></p><ol><li>Police Commission Report</li><li>Building In
 spector</li><li>DPW Report/Building &amp; Grounds</li><li>WWS</li><li>Plann
 ing Commission/DDA</li><li>Blight Committee</li><li>Correspondence</li></ol
 ><p> </p><p><strong>Old business:</strong></p><ol><li>Vacant Lot - Carryove
 r</li></ol><p><strong> </strong>          </p><p><strong>New Business: </st
 rong></p><ol><li>Land Split</li></ol><p> </p><p><strong>Public Participatio
 n 2:  </strong></p><p><strong>           </strong></p><p><strong>Adjournmen
 t:</strong></p><p> </p><p> </p><p> </p><p> </p>
DTSTAMP:20260421T190129
DTSTART;VALUE=DATE:20240104
DTEND;VALUE=DATE:20240110
SEQUENCE:0
RRULE:FREQ=DAILY;UNTIL=20240109T000000Z;INTERVAL=1
TRANSP:OPAQUE
END:VEVENT
END:VCALENDAR