BEGIN:VCALENDAR
VERSION:2.0
PRODID:-//jEvents 2.0 for Joomla//EN
CALSCALE:GREGORIAN
METHOD:PUBLISH
BEGIN:VEVENT
UID:97bd10f8b4208d90ef40710b036c744d
CATEGORIES:Notice
CREATED:19700101T000000
SUMMARY:Planning Commission/ DDA Meeting
DESCRIPTION:Meeting Notice\n \nThe Village of Lennon Planning Commission and Downtown D
 evelopment Authority will hold a meeting on Thursday, December 21 at 2:00 p
 .m.  at the Village of Lennon Hall located at 11904 Lennon Road, Lennon. \n
 Public is encouraged to attend.\n
X-ALT-DESC;FMTTYPE=text/html:<p>Meeting Notice</p><p> </p><p>The Village of Lennon Planning Commission a
 nd Downtown Development Authority will hold a meeting on Thursday, December
  21 at 2:00 p.m.  at the Village of Lennon Hall located at 11904 Lennon Roa
 d, Lennon. </p><p>Public is encouraged to attend.</p>
DTSTAMP:20260422T001538
DTSTART;VALUE=DATE:20231220
DTEND;VALUE=DATE:20231221
SEQUENCE:0
RRULE:FREQ=DAILY;UNTIL=20231222T000000Z;INTERVAL=1
TRANSP:OPAQUE
END:VEVENT
END:VCALENDAR