BEGIN:VCALENDAR
VERSION:2.0
PRODID:-//jEvents 2.0 for Joomla//EN
CALSCALE:GREGORIAN
METHOD:PUBLISH
BEGIN:VEVENT
UID:14d0140a1f6b1075e9d7a16dfe87d034
CATEGORIES:Notice
CREATED:19700101T000000
SUMMARY:Novembe r 13, 2023 Council Meeting
DESCRIPTION:Village of Lennon will hold its monthly Council Meeting on Monday, November
  13, 2023 at the Lennon Village Hall located at 11904 Lennon Road, Lennon, 
 MI at 6:30 p.m.   \nEveryone is encouraged to attend.  \n Village of Lennon
 Council Meeting\nOctober 9, 2023\n Agenda \nOpen at 6:30 P.M.\nCall to Orde
 r\nPledge of Allegiance\nRoll Call\nApproval Minutes of Regular Meeting – O
 ctober 9, 2023\nApproval of the Agenda\nTreasurer’s Report\nPayment of Bill
 s and Wages \n \nPublic Participation 1: \nReports\n\n - Police Commission 
 Report\n - Building Inspector\n - DPW Report/Building &amp; Grounds\n - WWS
 \n - Planning Commission/DDA\n - Blight Committee\n - CorrespondenceOld bus
 iness:\n\n - Ordinance to Regulate the keeping of noncommercial chickens 23
 -0707-01 Chicken –Second Reading\n - Vacant Lot - Carryover            \nNe
 w Business: \n\n - Options for Storage Tank removal \nPublic Participation 
 2:  \n             Adjournment:\n \n \n \n
X-ALT-DESC;FMTTYPE=text/html:<p>Village of Lennon will hold its monthly Council Meeting on Monday, Novem
 ber 13, 2023 at the Lennon Village Hall located at 11904 Lennon Road, Lenno
 n, MI at 6:30 p.m.   </p><p>Everyone is encouraged to attend.  </p><h2> </h
 2><h2>Village of Lennon</h2><p><strong>Council Meeting</strong></p><p><stro
 ng>October 9, 2023</strong></p><h1> </h1><h1>Agenda</h1><p> </p><p>Open at 
 6:30 P.M.</p><p>Call to Order</p><p>Pledge of Allegiance</p><p>Roll Call</p
 ><p>Approval Minutes of Regular Meeting – October 9, 2023</p><p>Approval of
  the Agenda</p><p>Treasurer’s Report</p><p>Payment of Bills and Wages </p><
 p> </p><p><strong>Public Participation 1: </strong></p><p><strong>Reports</
 strong></p><ol><li>Police Commission Report</li><li>Building Inspector</li>
 <li>DPW Report/Building &amp; Grounds</li><li>WWS</li><li>Planning Commissi
 on/DDA</li><li>Blight Committee</li><li>Correspondence</li></ol><p><strong>
 Old business:</strong></p><ol><li>Ordinance to Regulate the keeping of nonc
 ommercial chickens 23-0707-01 Chicken –Second Reading</li><li>Vacant Lot - 
 Carryover</li></ol><p><strong> </strong>           </p><p><strong>New Busin
 ess: </strong></p><ol><li>Options for Storage Tank removal</li></ol><p> </p
 ><p><strong>Public Participation 2:  </strong></p><p><strong>             <
 /strong><strong style="font-size: 1rem;">Adjournment:</strong></p><p> </p><
 p> </p><p> </p>
DTSTAMP:20260422T051434
DTSTART;VALUE=DATE:20231109
DTEND;VALUE=DATE:20231115
SEQUENCE:0
RRULE:FREQ=DAILY;UNTIL=20231114T000000Z;INTERVAL=1
TRANSP:OPAQUE
END:VEVENT
END:VCALENDAR