BEGIN:VCALENDAR
VERSION:2.0
PRODID:-//jEvents 2.0 for Joomla//EN
CALSCALE:GREGORIAN
METHOD:PUBLISH
BEGIN:VEVENT
UID:8344f54a95b2ec769568df746766149d
CATEGORIES:Notice
CREATED:19700101T000000
SUMMARY:Regular Council October 2023
DESCRIPTION:<h2 style="text-align: center;">Village of Lennon</h2><p style="text-align:
  center;"><strong>Council Meeting</strong></p><p style="text-align: center;
 "><strong>October 9, 2023</strong></p><h1> </h1><h1>Agenda</h1><p> </p><p>O
 pen at 6:30 P.M.</p><p>Call to Order</p><p>Pledge of Allegiance</p><p>Roll 
 Call</p><p>Approval Minutes of Regular Meeting – September 11, 2023</p><p>A
 pproval of the Agenda</p><p>Treasurer’s Report</p><p>Payment of Bills and W
 ages </p><p> </p><p><strong>Public Participation 1: </strong></p><p> </p><p
 ><strong>Reports</strong></p><ol><li>Police Commission Report</li><li>New P
 olice Chief Recommendation</li><li>Building Inspector</li><li>DPW Report/Bu
 ilding &amp; Grounds</li><li>WWS</li><li>Planning Commission/DDA</li><li>Bl
 ight Committee</li><li>Correspondence</li></ol><p> </p><p><strong>Old busin
 ess:</strong></p><ol><li>Ordinance to Regulate the keeping of noncommercial
  chickens 23-0707-01Chicken – First Reading</li><li>Vacant Lot - Carryover<
 /li></ol><p><strong> </strong></p><p>           </p><p><strong>New Business
 : </strong></p><ol><li>Resolution to close Main Street on October 31 from 6
 :00 pm to 8:00 p.m.  for Trunk or Treat</li><li>Options for Storage Tank re
 moval</li></ol><p> </p><p><strong>Public Participation 2:  </strong></p><p>
 <strong>              </strong></p><p><strong>Adjournment:</strong></p><p> 
 </p><p> </p>
DTSTAMP:20260422T072008
DTSTART;VALUE=DATE:20231005
DTEND;VALUE=DATE:20231011
SEQUENCE:0
RRULE:FREQ=DAILY;UNTIL=20231010T000000Z;INTERVAL=1
TRANSP:OPAQUE
END:VEVENT
END:VCALENDAR