BEGIN:VCALENDAR
VERSION:2.0
PRODID:-//jEvents 2.0 for Joomla//EN
CALSCALE:GREGORIAN
METHOD:PUBLISH
BEGIN:VEVENT
UID:7db3572b60985e4a11dd329f6594acd0
CATEGORIES:Notice
CREATED:19700101T000000
SUMMARY:Council Meeting
DESCRIPTION:Village of Lennon will hold the following meetings on September 11, 2023 st
 arting at 6:30 p.m.\nPublic Hearing on Chicken Ordinance\nPublic Hearing on
  Variance Request\nRegular Council Meeting.   \nPublic is invited and encou
 raged to attend.\n \n  \nVillage of Lennon \n \nCouncil Meeting\nSeptember 
 11, 2023\n Agenda \nOpen at 6:30 P.M.\nCall to Order\nPledge of Allegiance\
 nRoll Call\nApproval of Minutes of Public Hearing on Master Plan – August 1
 4, 2023\nApproval Minutes of Regular Meeting – August 14, 2023\nApproval of
  the Agenda\nTreasurer’s Report\nPayment of Bills and Wages \nClose Council
  meeting\nPublic Hearing:  Variance application – Terry Kemp\n \nPublic Hea
 ring:  Ordinance to Regulate the keeping of noncommercial chickens 23-0707-
 01\nReopen Council Meeting\n Public Participation 1: \n \nReports\n\n - Pol
 ice Commission Report\n - Building Inspector\n - DPW Report/Building &amp; 
 Grounds\n - WWS\n - Planning Commission/DDA\n - Blight Committee\n - Corres
 pondence \nOld business:\n\n - Chicken Ordinance\n - Vacant Lot        \nNe
 w Business: \n \nPublic Participation 2:  \n              \nAdjournment:\n 
 \n
X-ALT-DESC;FMTTYPE=text/html:<p>Village of Lennon will hold the following meetings on September 11, 2023
  starting at 6:30 p.m.</p><p>Public Hearing on Chicken Ordinance</p><p>Publ
 ic Hearing on Variance Request</p><p>Regular Council Meeting.   </p><p>Publ
 ic is invited and encouraged to attend.</p><p> </p><p>  </p><h2>Village of 
 Lennon</h2><p> </p><p> </p><p><strong>Council Meeting</strong></p><p><stron
 g>September 11, 2023</strong></p><h1> </h1><h1>Agenda</h1><p> </p><p>Open a
 t 6:30 P.M.</p><p>Call to Order</p><p>Pledge of Allegiance</p><p>Roll Call<
 /p><p>Approval of Minutes of Public Hearing on Master Plan – August 14, 202
 3</p><p>Approval Minutes of Regular Meeting – August 14, 2023</p><p>Approva
 l of the Agenda</p><p>Treasurer’s Report</p><p>Payment of Bills and Wages <
 /p><p>Close Council meeting</p><p><strong>Public Hearing:</strong>  Varianc
 e application – Terry Kemp</p><p> </p><p><strong>Public Hearing: </strong> 
 Ordinance to Regulate the keeping of noncommercial chickens 23-0707-01</p><
 p><strong>Reopen Council Meeting</strong></p><p><strong> </strong><strong>P
 ublic Participation 1: </strong></p><p> </p><p><strong>Reports</strong></p>
 <ol><li>Police Commission Report</li><li>Building Inspector</li><li>DPW Rep
 ort/Building &amp; Grounds</li><li>WWS</li><li>Planning Commission/DDA</li>
 <li>Blight Committee</li><li>Correspondence</li></ol><p> </p><p><strong>Old
  business:</strong></p><ol><li>Chicken Ordinance</li><li>Vacant Lot</li></o
 l><p><strong> </strong>       </p><p><strong>New Business: </strong></p><p>
  </p><p><strong>Public Participation 2:  </strong></p><p><strong>          
     </strong></p><p><strong>Adjournment:</strong></p><p> </p>
DTSTAMP:20260422T224756
DTSTART;VALUE=DATE:20230907
DTEND;VALUE=DATE:20230912
SEQUENCE:0
RRULE:FREQ=DAILY;UNTIL=20230911T000000Z;INTERVAL=1
TRANSP:OPAQUE
END:VEVENT
END:VCALENDAR