BEGIN:VCALENDAR
VERSION:2.0
PRODID:-//jEvents 2.0 for Joomla//EN
CALSCALE:GREGORIAN
METHOD:PUBLISH
BEGIN:VEVENT
UID:da40023f301eb7174b667bcff1981579
CATEGORIES:Notice
CREATED:19700101T000000
SUMMARY:Public Hearing - Chicken Ordinance 
DESCRIPTION:<p><strong>NOTICE FOR PUBLIC HEARING ON ORDINANCE 2023-0707-01 AMENDING THE
  VILLAGE OF LENNON ZONING ORDINANCE TO REGULATE THE KEEPING OF NONCOMMERCIA
 L FEMALE CHICKENS ON RESIDENTIAL PROPERTIES</strong></p><p>The Village of L
 ennon located at 11904 E. Lennon Road, Lennon, Michigan 48449, will conduct
  a public meeting on September 11, 2023, at 6:30 p.m. regarding the adoptio
 n of the proposed amended Village of Lennon Zoning Ordinance.  The proposed
  amended Village of Lennon Zoning Ordinance provides regulations for the ke
 eping of noncommercial female chickens on residential properties in the Vil
 lage of Lennon.  The Village of Lennon Council will take public comments on
  the proposed amended Village of Lennon Zoning Ordinance at 6:30 p.m. on Mo
 nday, September 11, 2023, at 6:30 p.m.  A complete copy of the proposed ame
 nded Village of Lennon Zoning Ordinance as well as all corresponding docume
 nts and a complete copy of all Village of Lennon ordinances can be obtained
  at the Village of Lennon Hall located at 11904 E. Lennon Road, Lennon, Mic
 higan 48449 during business hours and on the Village of Lennon web site at 
 www.villageoflennon.com. </p><p>To read the proposed ordinance do the follo
 wing: </p><p>From the Home page select  (1) DOCUMENTS</p><p>               
                                 (2) MUNICIPAL CODES</p><p>                 
                               (3) ORDINANCES</p><p>                        
                        (4) PROPOSED NEW ORDINANCES</p><p>                  
                              (5) AN ORDINANCE TO REGULATE HE KEEPING OF NON
  COMMERCIAL FEMALE CHICKENS ON RESIDETIAL PROPERTIES</p><p> </p>
DTSTAMP:20260422T225136
DTSTART;VALUE=DATE:20230823
DTEND;VALUE=DATE:20230913
SEQUENCE:0
RRULE:FREQ=DAILY;UNTIL=20230912T000000Z;INTERVAL=1
TRANSP:OPAQUE
END:VEVENT
END:VCALENDAR