BEGIN:VCALENDAR
VERSION:2.0
PRODID:-//jEvents 2.0 for Joomla//EN
CALSCALE:GREGORIAN
METHOD:PUBLISH
BEGIN:VEVENT
UID:725c47e2d804a55a17fee068e0759136
CATEGORIES:Notice
CREATED:19700101T000000
SUMMARY:Planning Commission Meeting
DESCRIPTION:The Planning Commission and Downtown Development Authority will have a meet
 ing on Wednesday, August 2, 2023 at 6:00 p.m.   \n
X-ALT-DESC;FMTTYPE=text/html:<p>The Planning Commission and Downtown Development Authority will have a m
 eeting on Wednesday, August 2, 2023 at 6:00 p.m.   </p>
DTSTAMP:20260422T145648
DTSTART;VALUE=DATE:20230802
DTEND;VALUE=DATE:20230804
SEQUENCE:0
RRULE:FREQ=DAILY;UNTIL=20230803T000000Z;INTERVAL=1
TRANSP:OPAQUE
END:VEVENT
END:VCALENDAR