BEGIN:VCALENDAR
VERSION:2.0
PRODID:-//jEvents 2.0 for Joomla//EN
CALSCALE:GREGORIAN
METHOD:PUBLISH
BEGIN:VEVENT
UID:2e27293a8588e95037f12b01445cb75a
CATEGORIES:Notice
CREATED:20230801T121547
SUMMARY:Regular Council Meeting
DESCRIPTION:Public Notice\nVillage of Lennon Regular Council Meeting\nThe Village of Le
 nnon will hold its regular monthly council meeting on Monday, August 14, 20
 23 at 6:30 P.M.\nThe public is encouraged to attend.\n
X-ALT-DESC;FMTTYPE=text/html:<p><strong>Public Notice</strong></p><p>Village of Lennon Regular Council M
 eeting</p><p>The Village of Lennon will hold its regular monthly council me
 eting on Monday, August 14, 2023 at 6:30 P.M.</p><p>The public is encourage
 d to attend.</p>
DTSTAMP:20260422T180438
DTSTART;VALUE=DATE:20230814
DTEND;VALUE=DATE:20230815
SEQUENCE:0
TRANSP:OPAQUE
END:VEVENT
END:VCALENDAR