BEGIN:VCALENDAR
VERSION:2.0
PRODID:-//jEvents 2.0 for Joomla//EN
CALSCALE:GREGORIAN
METHOD:PUBLISH
BEGIN:VEVENT
UID:eb740e63b836c6bd33a06d0caa3b3cf6
CATEGORIES:Notice
CREATED:20230801T120812
SUMMARY:Blight Committee Meeting 
DESCRIPTION:<p>The Blight Committee meeting will be held Monday, August 7, 2023 at 5:45
 p.m. at the Lennon Village Hall.  </p><p>Public welcome</p>
DTSTAMP:20260422T180941
DTSTART;VALUE=DATE:20230807
DTEND;VALUE=DATE:20230808
SEQUENCE:0
TRANSP:OPAQUE
END:VEVENT
END:VCALENDAR