BEGIN:VCALENDAR
VERSION:2.0
PRODID:-//jEvents 2.0 for Joomla//EN
CALSCALE:GREGORIAN
METHOD:PUBLISH
BEGIN:VEVENT
UID:5d5c7f73dcb8f60b3b1b9a67dc7e560c
CATEGORIES:Notice
CREATED:20230801T120615
SUMMARY:Police Commission Meeting
DESCRIPTION:There will be a Police Commission meeting Monday, August 7, 2023 at 5:00 p.
 m. at the Lennon Village Hall.   \nPublic welcome\n
X-ALT-DESC;FMTTYPE=text/html:<p>There will be a Police Commission meeting Monday, August 7, 2023 at 5:00
  p.m. at the Lennon Village Hall.   </p><p>Public welcome</p>
DTSTAMP:20260422T180604
DTSTART;VALUE=DATE:20230807
SEQUENCE:0
TRANSP:OPAQUE
END:VEVENT
END:VCALENDAR