BEGIN:VCALENDAR
VERSION:2.0
PRODID:-//jEvents 2.0 for Joomla//EN
CALSCALE:GREGORIAN
METHOD:PUBLISH
BEGIN:VEVENT
UID:2b331a0aaba02eec915ca78b4a9e5866
CATEGORIES:Notice
CREATED:19700101T000000
SUMMARY:July 10, 2023 Council Meeting 
DESCRIPTION:The Village of Lennon Council Meeting will be held on Monday, July 10, 2023
  at 6:30 p.m.   The meeting will be held at the Lennon Village Hall located
  at 11904 Lennon Rd., Lennon.   \nAgenda follows.  \nPublic is encouraged t
 o attend.  \n \n \nVillage of LennonCouncil Meeting\nJuly 10, 2023\nAgendaO
 pen at 6:30 P.M.\nCall to Order\nPledge of Allegiance\nRoll Call\nApproval 
 Minutes of Regular Meeting – June 12, 2023\nApproval of the Agenda\nTreasur
 er’s Report\nPayment of Bills and Wages \nPublic Participation 1: \nReports
 \n\n - Police Commission Report\n - Building Inspector\n - DPW Report/Build
 ing &amp; Grounds\n - WWS\n - Planning Commission/DDA\n - Blight Committee\
 n - Correspondence \nOld business:\n\n - ARPA Funds Potential Uses \n      
      \nNew Business: \n\n -  Accessory Dwelling \nPublic Participation 2:  
 \n              \nAdjournment:\n \n \n
X-ALT-DESC;FMTTYPE=text/html:<p>The Village of Lennon Council Meeting will be held on Monday, July 10, 2
 023 at 6:30 p.m.   The meeting will be held at the Lennon Village Hall loca
 ted at 11904 Lennon Rd., Lennon.   </p><p>Agenda follows.  </p><p>Public is
  encouraged to attend.  </p><p> </p><p> </p><h2>Village of Lennon</h2><p><s
 trong>Council Meeting</strong></p><p><strong>July 10, 2023</strong></p><h1>
 Agenda</h1><p>Open at 6:30 P.M.</p><p>Call to Order</p><p>Pledge of Allegia
 nce</p><p>Roll Call</p><p>Approval Minutes of Regular Meeting – June 12, 20
 23</p><p>Approval of the Agenda</p><p>Treasurer’s Report</p><p>Payment of B
 ills and Wages </p><p><strong>Public Participation 1: </strong></p><p><stro
 ng>Reports</strong></p><ol><li>Police Commission Report</li><li>Building In
 spector</li><li>DPW Report/Building &amp; Grounds</li><li>WWS</li><li>Plann
 ing Commission/DDA</li><li>Blight Committee</li><li>Correspondence</li></ol
 ><p> </p><p><strong>Old business:</strong></p><ol><li>ARPA Funds Potential 
 Uses</li></ol><p> </p><p>           </p><p><strong>New Business: </strong><
 /p><ol><li><strong> </strong>Accessory Dwelling</li></ol><p> </p><p><strong
 >Public Participation 2:  </strong></p><p><strong>              </strong></
 p><p><strong>Adjournment:</strong></p><p> </p><p> </p>
DTSTAMP:20260422T144120
DTSTART;VALUE=DATE:20230710
DTEND;VALUE=DATE:20230712
SEQUENCE:0
RRULE:FREQ=DAILY;UNTIL=20230711T000000Z;INTERVAL=1
EXDATE:20230711T000000
TRANSP:OPAQUE
END:VEVENT
BEGIN:VEVENT
UID:2b331a0aaba02eec915ca78b4a9e5866
CATEGORIES:Notice
CREATED:20230706T150803
SUMMARY:July 10, 2023 Council Meeting 
DESCRIPTION:The Village of Lennon Council Meeting will be held on Monday, July 10, 2023
  at 6:30 p.m.   The meeting will be held at the Lennon Village Hall located
  at 11904 Lennon Rd., Lennon.   \nAgenda follows.  \nPublic is encouraged t
 o attend.  \n \n \nVillage of LennonCouncil Meeting\nJuly 10, 2023\nAgendaO
 pen at 6:30 P.M.\nCall to Order\nPledge of Allegiance\nRoll Call\nApproval 
 Minutes of Regular Meeting – June 12, 2023\nApproval of the Agenda\nTreasur
 er’s Report\nPayment of Bills and Wages \nPublic Participation 1: \nReports
 \n\n - Police Commission Report\n - Building Inspector\n - DPW Report/Build
 ing &amp; Grounds\n - WWS\n - Planning Commission/DDA\n - Blight Committee\
 n - Correspondence \nOld business:\n\n - ARPA Funds Potential Uses \n      
      \nNew Business: \n\n -  Accessory Dwelling \nPublic Participation 2:  
 \n              \nAdjournment:\n \n \n
X-ALT-DESC;FMTTYPE=text/html:<p>The Village of Lennon Council Meeting will be held on Monday, July 10, 2
 023 at 6:30 p.m.   The meeting will be held at the Lennon Village Hall loca
 ted at 11904 Lennon Rd., Lennon.   </p><p>Agenda follows.  </p><p>Public is
  encouraged to attend.  </p><p> </p><p> </p><h2>Village of Lennon</h2><p><s
 trong>Council Meeting</strong></p><p><strong>July 10, 2023</strong></p><h1>
 Agenda</h1><p>Open at 6:30 P.M.</p><p>Call to Order</p><p>Pledge of Allegia
 nce</p><p>Roll Call</p><p>Approval Minutes of Regular Meeting – June 12, 20
 23</p><p>Approval of the Agenda</p><p>Treasurer’s Report</p><p>Payment of B
 ills and Wages </p><p><strong>Public Participation 1: </strong></p><p><stro
 ng>Reports</strong></p><ol><li>Police Commission Report</li><li>Building In
 spector</li><li>DPW Report/Building &amp; Grounds</li><li>WWS</li><li>Plann
 ing Commission/DDA</li><li>Blight Committee</li><li>Correspondence</li></ol
 ><p> </p><p><strong>Old business:</strong></p><ol><li>ARPA Funds Potential 
 Uses</li></ol><p> </p><p>           </p><p><strong>New Business: </strong><
 /p><ol><li><strong> </strong>Accessory Dwelling</li></ol><p> </p><p><strong
 >Public Participation 2:  </strong></p><p><strong>              </strong></
 p><p><strong>Adjournment:</strong></p><p> </p><p> </p>
URL;VALUE=URI:https://villageoflennon.org/index.php/calendar/eventdetail/4451/-/july-10-2
 023-council-meeting?tmpl=component

DTSTAMP:20260422T144120
DTSTART:20230710T000000
DTEND:20230711T235959
RECURRENCE-ID:20230710T000000
SEQUENCE:0
TRANSP:OPAQUE
END:VEVENT
END:VCALENDAR