BEGIN:VCALENDAR
VERSION:2.0
PRODID:-//jEvents 2.0 for Joomla//EN
CALSCALE:GREGORIAN
METHOD:PUBLISH
BEGIN:VEVENT
UID:e11a08503efb1e6ca8cf56241ead42f9
CATEGORIES:Notice
CREATED:19700101T000000
SUMMARY:Council Meeting and Public Hearing
DESCRIPTION:The Village of Lennon will hold a public hearing on the proposed 2023-2024 
 budget on Monday, June 12 at 6:00p.m. at the Lennon Village Hall.   Public 
 is encouraged to attend.   Following at 6:30 pm will be the monthly Council
  Meeting.   \nVillage of LennonPublic Hearing – Proposed 2023-2024 Budget\n
 June 12, 2023  at 6:00 p.m. \n \nAgenda: \nOpen at 6:00 P.M.\nCall to order
 \nPledge of Allegiance\nRoll-Call\nApproval of regular agenda\nNew business
 :\n\n - 2023-2024 Millage Proposal\n - Budget Presentation\n - Recommendati
 on to Council to approve the millage for 2023\n - Recommendation to Council
  to adopt the 2023-2024 proposed budget \nPublic Participation:\n          
           \nAdjournment\n \n Village of LennonCouncil Meeting\nJune 12, 202
 3\n Agenda \nOpen at 6:30 P.M.\nCall to Order\nPledge of Allegiance\nRoll C
 all\nApproval Minutes of Regular Meeting – May 8, 2023\nApproval of the Age
 nda\nTreasurer’s Report\n \nPayment of Bills and Wages \n \nPublic Particip
 ation 1: \n \nReports\n\n - Police Commission Report\n - Building Inspector
 \n - DPW Report/Building &amp; Grounds\n - WWS\n - Planning Commission/DDA\
 n - Blight Committee\n - Correspondence \nOld business:\n \n           \nNe
 w Business: \n\n - Resolution accepting the June 30, 2022 Deficit Eliminati
 on Plan to the State of Michigan\n - Resolution accepting the L-4029 and ad
 opting the 2023 milage rate\n - Resolution approving the June 30, 2024 Fisc
 al year budget\n - ARPA Funds Potential Uses \nPublic Participation 2:  \n 
              \nAdjournment:\n \n \n
X-ALT-DESC;FMTTYPE=text/html:<p>The Village of Lennon will hold a public hearing on the proposed 2023-20
 24 budget on Monday, June 12 at 6:00p.m. at the Lennon Village Hall.   Publ
 ic is encouraged to attend.   Following at 6:30 pm will be the monthly Coun
 cil Meeting.   </p><h2>Village of Lennon</h2><p><strong>Public Hearing – Pr
 oposed 2023-2024 Budget</strong></p><p>June 12, 2023  at 6:00 p.m. </p><p> 
 </p><p>Agenda: </p><p>Open at 6:00 P.M.</p><p>Call to order</p><p>Pledge of
  Allegiance</p><p>Roll-Call</p><p>Approval of regular agenda</p><p>New busi
 ness:</p><ol><li>2023-2024 Millage Proposal</li><li>Budget Presentation</li
 ></ol><ol><li>Recommendation to Council to approve the millage for 2023</li
 ><li>Recommendation to Council to adopt the 2023-2024 proposed budget</li><
 /ol><p> </p><p>Public Participation:</p><p>                    </p><p>Adjou
 rnment</p><p> </p><h2> </h2><h2>Village of Lennon</h2><p><strong>Council Me
 eting</strong></p><p><strong>June 12, 2023</strong></p><h1> </h1><h1>Agenda
 </h1><p> </p><p>Open at 6:30 P.M.</p><p>Call to Order</p><p>Pledge of Alleg
 iance</p><p>Roll Call</p><p>Approval Minutes of Regular Meeting – May 8, 20
 23</p><p>Approval of the Agenda</p><p>Treasurer’s Report</p><p> </p><p>Paym
 ent of Bills and Wages </p><p> </p><p><strong>Public Participation 1: </str
 ong></p><p> </p><p><strong>Reports</strong></p><ol><li>Police Commission Re
 port</li><li>Building Inspector</li><li>DPW Report/Building &amp; Grounds</
 li><li>WWS</li><li>Planning Commission/DDA</li><li>Blight Committee</li><li
 >Correspondence</li></ol><p> </p><p><strong>Old business:</strong></p><p><s
 trong> </strong></p><p>           </p><p><strong>New Business: </strong></p
 ><ol><li>Resolution accepting the June 30, 2022 Deficit Elimination Plan to
  the State of Michigan</li><li>Resolution accepting the L-4029 and adopting
  the 2023 milage rate</li><li>Resolution approving the June 30, 2024 Fiscal
  year budget</li><li>ARPA Funds Potential Uses</li></ol><p> </p><p><strong>
 Public Participation 2:  </strong></p><p><strong>              </strong></p
 ><p><strong>Adjournment:</strong></p><p> </p><p> </p>
DTSTAMP:20260422T101752
DTSTART;VALUE=DATE:20230608
DTEND;VALUE=DATE:20230614
SEQUENCE:0
RRULE:FREQ=DAILY;UNTIL=20230613T000000Z;INTERVAL=1
TRANSP:OPAQUE
END:VEVENT
END:VCALENDAR