BEGIN:VCALENDAR
VERSION:2.0
PRODID:-//jEvents 2.0 for Joomla//EN
CALSCALE:GREGORIAN
METHOD:PUBLISH
BEGIN:VEVENT
UID:2bf594ea86f34a03b188680988db34d6
CATEGORIES:Notice
CREATED:20230524T120213
SUMMARY:Public Hearing Proposed 2023-2024 Budget
DESCRIPTION:NOTICE OF VILLAGE OF LENNON PUBLIC HEARING\nA Public Hearing has been sched
 uled for June 12th  before  the Regular Council Meeting at 6:00 p.m. at the
  Village of Lennon Village Hall located at 11904 Lennon Rd., Lennon, Michig
 an 48449 for the purpose of discussing adoption of the 2023-2024 Budget. A 
 copy of the budget will be available for public inspection in the Clerk’s O
 ffice at the 11904 Lennon Road, Lennon (Village Hall).\n \nTHE PROPERTY TAX
  MILLAGE RATE PROPOSED TO BE LEVIED TO SUPPORT THE PROPOSED BUDGET WILL BE 
 A SUBJECT OF THIS HEARING.\n \nPublic comments, either oral or written, are
  welcome at the Public Hearing. Handicapped persons needing assistance or a
 id should contact the Village of Lennon Offices during regular working hour
 s forty-eight hours prior to the meeting.\n \n \n
X-ALT-DESC;FMTTYPE=text/html:<p style="text-align: center;"><strong>NOTICE OF VILLAGE OF LENNON PUBLIC H
 EARING</strong></p><p>A Public Hearing has been scheduled for June 12<sup>t
 h</sup>  before  the Regular Council Meeting at 6:00 p.m. at the Village of
  Lennon Village Hall located at 11904 Lennon Rd., Lennon, Michigan 48449 fo
 r the purpose of discussing adoption of the 2023-2024 Budget. A copy of the
  budget will be available for public inspection in the Clerk’s Office at th
 e 11904 Lennon Road, Lennon (Village Hall).</p><p> </p><p><strong>THE PROPE
 RTY TAX MILLAGE RATE PROPOSED TO BE LEVIED TO SUPPORT THE PROPOSED BUDGET W
 ILL BE A SUBJECT OF THIS HEARING.</strong></p><p><strong> </strong></p><p>P
 ublic comments, either oral or written, are welcome at the Public Hearing. 
 Handicapped persons needing assistance or aid should contact the Village of
  Lennon Offices during regular working hours forty-eight hours prior to the
  meeting.</p><p> </p><p> </p>
DTSTAMP:20260421T235746
DTSTART;VALUE=DATE:20230524
DTEND;VALUE=DATE:20230614
SEQUENCE:0
TRANSP:OPAQUE
END:VEVENT
END:VCALENDAR