BEGIN:VCALENDAR
VERSION:2.0
PRODID:-//jEvents 2.0 for Joomla//EN
CALSCALE:GREGORIAN
METHOD:PUBLISH
BEGIN:VEVENT
UID:903c0e8cfae609a0659a8667185ec20b
CATEGORIES:Notice
CREATED:20230504T144133
SUMMARY:Regular Council Meeting
DESCRIPTION:Council Meeting\nThe Village of Lennon will hold its regular monthly Counci
 l Meeting on Monday, May 8, 2023 at 6:30 p.m.  The meeting will be held at 
 the Village of Lennon Hall located at 11904 Lennon Rd., Lennon, MI   \nThe 
 Public is encouraged to attend.   \n \nAgenda may be found by:  On Home Pag
 e                Click on Documents\n                                      
                                                Click on Meetings\n         
                                                                            
  Click on Agendas\n                                                        
                              Click on May 8, 2023   \n
X-ALT-DESC;FMTTYPE=text/html:<p>Council Meeting</p><p>The Village of Lennon will hold its regular monthl
 y Council Meeting on Monday, May 8, 2023 at 6:30 p.m.  The meeting will be 
 held at the Village of Lennon Hall located at 11904 Lennon Rd., Lennon, MI 
   </p><p>The Public is encouraged to attend.   </p><p> </p><p>Agenda may be
  found by:  On Home Page                Click on Documents</p><p>          
                                                                            
 Click on Meetings</p><p>                                                   
                                   Click on Agendas</p><p>                  
                                                                    Click on
  May 8, 2023   </p>
DTSTAMP:20260421T235839
DTSTART;VALUE=DATE:20230508
DTEND;VALUE=DATE:20230509
SEQUENCE:0
TRANSP:OPAQUE
END:VEVENT
END:VCALENDAR