BEGIN:VCALENDAR
VERSION:2.0
PRODID:-//jEvents 2.0 for Joomla//EN
CALSCALE:GREGORIAN
METHOD:PUBLISH
BEGIN:VEVENT
UID:691f1b54f41b359fc32333c21397a4ea
CATEGORIES:Notice
CREATED:20230417T134334
SUMMARY:DPW Meeting
DESCRIPTION:Public Meeting Notice \nThe DPW Department will have a meeting on Thursday,
  April 20, 2023 at 6:00 p.m.  The meeting will be held at the Lennon Villag
 e Hall.   \n
X-ALT-DESC;FMTTYPE=text/html:<p>Public Meeting Notice </p><p>The DPW Department will have a meeting on T
 hursday, April 20, 2023 at 6:00 p.m.  The meeting will be held at the Lenno
 n Village Hall.   </p>
DTSTAMP:20260421T235837
DTSTART;VALUE=DATE:20230420
DTEND;VALUE=DATE:20230422
SEQUENCE:0
TRANSP:OPAQUE
END:VEVENT
END:VCALENDAR