BEGIN:VCALENDAR
VERSION:2.0
PRODID:-//jEvents 2.0 for Joomla//EN
CALSCALE:GREGORIAN
METHOD:PUBLISH
BEGIN:VEVENT
UID:0bb7eb96747ab968ecb4b8fef71cb885
CATEGORIES:Notice
CREATED:20230406T154202
SUMMARY:April 10, 2023 Agenda 
DESCRIPTION: Village of LennonCouncil Meeting\nApril 10, 2023\n Agenda \nOpen at 6:30 P
 .M.\nCall to Order\nPledge of Allegiance\nRoll Call\nApproval Minutes of Re
 gular Meeting – March 13, 2023\nApproval of Minutes of Special Meeting – Ma
 rch 9, 2023\nApproval of the Agenda\nTreasurer’s Report\nPayment of Bills a
 nd Wages \n \nPublic Participation 1: \n \nReports\n\n - Police Commission 
 Report\n - Building Inspector\n - DPW Report/Building &amp; Grounds\n - WWS
 \n - Planning Commission\n - Blight Committee\n - Correspondence \nOld busi
 ness:\n \n\n - Chicken Ordinance – Tabled from October – Moved to April    
        \nNew Business: \n\n -   \nPublic Participation 2:  \n              
 \nAdjournment:\n \n \n
X-ALT-DESC;FMTTYPE=text/html:<h2> </h2><h2>Village of Lennon</h2><p><strong>Council Meeting</strong></p>
 <p><strong>April 10, 2023</strong></p><h1> </h1><h1>Agenda</h1><p> </p><p>O
 pen at 6:30 P.M.</p><p>Call to Order</p><p>Pledge of Allegiance</p><p>Roll 
 Call</p><p>Approval Minutes of Regular Meeting – March 13, 2023</p><p>Appro
 val of Minutes of Special Meeting – March 9, 2023</p><p>Approval of the Age
 nda</p><p>Treasurer’s Report</p><p>Payment of Bills and Wages </p><p> </p><
 p><strong>Public Participation 1: </strong></p><p> </p><p><strong>Reports</
 strong></p><ol><li>Police Commission Report</li><li>Building Inspector</li>
 <li>DPW Report/Building &amp; Grounds</li><li>WWS</li><li>Planning Commissi
 on</li><li>Blight Committee</li><li>Correspondence</li></ol><p> </p><p><str
 ong>Old business:</strong></p><p><strong> </strong></p><ol><li>Chicken Ordi
 nance – Tabled from October – Moved to April</li></ol><p>           </p><p>
 <strong>New Business: </strong></p><ol><li> </li></ol><p> </p><p><strong>Pu
 blic Participation 2:  </strong></p><p><strong>              </strong></p><
 p><strong>Adjournment:</strong></p><p> </p><p> </p>
DTSTAMP:20260421T235757
DTSTART:20230409T183000
SEQUENCE:0
TRANSP:OPAQUE
END:VEVENT
END:VCALENDAR