BEGIN:VCALENDAR
VERSION:2.0
PRODID:-//jEvents 2.0 for Joomla//EN
CALSCALE:GREGORIAN
METHOD:PUBLISH
BEGIN:VEVENT
UID:283f9306503e9c16928b56194cb37e7a
CATEGORIES:Notice
CREATED:20230406T153801
SUMMARY:Regular Council Meeting
DESCRIPTION:The Village of Lennon will hold its monthly council meeting on Monday, Apri
 l 10, 2023 at 6:30 p.m.  The meeting will be held at the Lennon Village Hal
 l located at 11904 Lennon Rd., Lennon.   \nThe Public is encouraged to atte
 nd.  '\n
X-ALT-DESC;FMTTYPE=text/html:<p>The Village of Lennon will hold its monthly council meeting on Monday, A
 pril 10, 2023 at 6:30 p.m.  The meeting will be held at the Lennon Village 
 Hall located at 11904 Lennon Rd., Lennon.   </p><p>The Public is encouraged
  to attend.  '</p>
DTSTAMP:20260421T235916
DTSTART:20230410T183000
SEQUENCE:0
TRANSP:OPAQUE
END:VEVENT
END:VCALENDAR