BEGIN:VCALENDAR
VERSION:2.0
PRODID:-//jEvents 2.0 for Joomla//EN
CALSCALE:GREGORIAN
METHOD:PUBLISH
BEGIN:VEVENT
UID:4ba5c84822d1346832f883d9f3e51dee
CATEGORIES:Notice
CREATED:20230309T130254
SUMMARY:Regular Council Meeting
DESCRIPTION:<p>The Village of Lennon will hold its monthly council meeting on Monday Ma
 rch 13, 2023 at 6:30 p.m.   The meeting will be held at the Village of Lenn
 on Hall located at 11904 Lennon Rd., Lennon.   </p><p>The public is encoura
 ged to attend.   </p>
DTSTAMP:20260422T000135
DTSTART;VALUE=DATE:20230313
DTEND;VALUE=DATE:20230314
SEQUENCE:0
TRANSP:OPAQUE
END:VEVENT
END:VCALENDAR