BEGIN:VCALENDAR
VERSION:2.0
PRODID:-//jEvents 2.0 for Joomla//EN
CALSCALE:GREGORIAN
METHOD:PUBLISH
BEGIN:VEVENT
UID:440d453407454a16af02fdce92b479d4
CATEGORIES:Notice
CREATED:20230308T111408
SUMMARY:SPECIAL MEETING
LOCATION:Village of Lennon Hall
DESCRIPTION:SPECIAL MEETING NOTICE\n \nTHE VILLAGE OF LENNON WILL HOLD A SPECIAL MEETIN
 G ON THURSDAY, MARCH 9, 2023 AT 5:00 P.M. AT THE VILLAGE OF LENNON HALL LOC
 ATED AT 11904 LENNON RD. LENNON.  \n \nTHE PURPOSE OF THE MEETING WILL BE T
 O DISCUSS THE SHIAWASSEE COUNTY/STATE OF MICHIGAN LAND BANK BLIGHT GRANT. \
 n \n \nPUBLIC IS ENCOURAGED TO ATTEND\n \n
X-ALT-DESC;FMTTYPE=text/html:<p style="text-align: center;"><span style="font-size: 18px;">SPECIAL MEETI
 NG NOTICE</span></p><p> </p><p>THE VILLAGE OF LENNON WILL HOLD A SPECIAL ME
 ETING ON THURSDAY, MARCH 9, 2023 AT 5:00 P.M. AT THE VILLAGE OF LENNON HALL
  LOCATED AT 11904 LENNON RD. LENNON.  </p><p> </p><p>THE PURPOSE OF THE MEE
 TING WILL BE TO DISCUSS THE SHIAWASSEE COUNTY/STATE OF MICHIGAN LAND BANK B
 LIGHT GRANT. </p><p> </p><p> </p><p>PUBLIC IS ENCOURAGED TO ATTEND</p><p> <
 /p>
DTSTAMP:20260421T235839
DTSTART:20230309T170000
DTEND:20230309T190000
SEQUENCE:0
TRANSP:OPAQUE
END:VEVENT
END:VCALENDAR