BEGIN:VCALENDAR
VERSION:2.0
PRODID:-//jEvents 2.0 for Joomla//EN
CALSCALE:GREGORIAN
METHOD:PUBLISH
BEGIN:VEVENT
UID:e6203c61071d06273e25fef72ccd476b
CATEGORIES:Notice
CREATED:19700101T000000
SUMMARY:Regular Council Meeting
DESCRIPTION:The Village of Lennon will hold its regular Council meeting on Monday, Febr
 uary 13, 2023 at 6:30 p.m.  The meeting will be held at the Lennon Village 
 hall located at 11904 Lennon Rd.  Public is encouraged to attend.  \n
X-ALT-DESC;FMTTYPE=text/html:<p>The Village of Lennon will hold its regular Council meeting on Monday, F
 ebruary 13, 2023 at 6:30 p.m.  The meeting will be held at the Lennon Villa
 ge hall located at 11904 Lennon Rd.  Public is encouraged to attend.  </p>
DTSTAMP:20260422T014053
DTSTART:20230209T183000
SEQUENCE:0
RRULE:FREQ=DAILY;UNTIL=20230215T000000Z;INTERVAL=1
TRANSP:OPAQUE
END:VEVENT
END:VCALENDAR