BEGIN:VCALENDAR
VERSION:2.0
PRODID:-//jEvents 2.0 for Joomla//EN
CALSCALE:GREGORIAN
METHOD:PUBLISH
BEGIN:VEVENT
UID:86de802020d40dd55f91f38c469c6414
CATEGORIES:Notice
CREATED:19700101T000000
SUMMARY:Regular Council Meeting 
DESCRIPTION:IMPORTANT NOTICE\nTHE COUNCIL MEETING SCHEDULED FOR MONDAY, JANUARY 9, 2023
  HAS BEEN CANCELLED AND RESCHEDULED FOR MONDAY, JANUARY 16 AT 6:30 P.M.   \
 n \n \n \n
X-ALT-DESC;FMTTYPE=text/html:<p><strong><span style="color: #ff0000;">IMPORTANT NOTICE</span></strong></
 p><p><strong>THE COUNCIL MEETING SCHEDULED FOR MONDAY, JANUARY 9, 2023 HAS 
 BEEN CANCELLED AND RESCHEDULED FOR MONDAY, JANUARY 16 AT 6:30 P.M.   </stro
 ng></p><p> </p><p> </p><p> </p>
DTSTAMP:20260421T235659
DTSTART;VALUE=DATE:20230105
DTEND;VALUE=DATE:20230111
SEQUENCE:0
RRULE:FREQ=DAILY;UNTIL=20230110T000000Z;INTERVAL=1
TRANSP:OPAQUE
END:VEVENT
END:VCALENDAR